BEGIN:VCALENDAR
VERSION:2.0
PRODID:-//Sainte-Honorine-du-Fay - ECPv5.14.0.2//NONSGML v1.0//EN
CALSCALE:GREGORIAN
METHOD:PUBLISH
X-WR-CALNAME:Sainte-Honorine-du-Fay
X-ORIGINAL-URL:https://sainte-honorine-du-fay.fr
X-WR-CALDESC:évènements pour Sainte-Honorine-du-Fay
BEGIN:VTIMEZONE
TZID:Europe/Paris
BEGIN:DAYLIGHT
TZOFFSETFROM:+0100
TZOFFSETTO:+0200
TZNAME:CEST
DTSTART:20240331T010000
END:DAYLIGHT
BEGIN:STANDARD
TZOFFSETFROM:+0200
TZOFFSETTO:+0100
TZNAME:CET
DTSTART:20241027T010000
END:STANDARD
END:VTIMEZONE
BEGIN:VEVENT
DTSTART;TZID=Europe/Paris:20240310T120000
DTEND;TZID=Europe/Paris:20240310T190000
DTSTAMP:20260425T052245
CREATED:20240224T101132Z
LAST-MODIFIED:20240224T101406Z
UID:3939-1710072000-1710097200@sainte-honorine-du-fay.fr
SUMMARY:Repas des Ainés
DESCRIPTION:Dimanche 10 mars 2024 \nrepas des Ainés \nSalle polyvalente
URL:https://sainte-honorine-du-fay.fr/event/repas-des-aines/
END:VEVENT
END:VCALENDAR