BEGIN:VCALENDAR
VERSION:2.0
PRODID:-//Sainte-Honorine-du-Fay - ECPv5.14.0.2//NONSGML v1.0//EN
CALSCALE:GREGORIAN
METHOD:PUBLISH
X-WR-CALNAME:Sainte-Honorine-du-Fay
X-ORIGINAL-URL:https://sainte-honorine-du-fay.fr
X-WR-CALDESC:évènements pour Sainte-Honorine-du-Fay
BEGIN:VTIMEZONE
TZID:Europe/Paris
BEGIN:DAYLIGHT
TZOFFSETFROM:+0100
TZOFFSETTO:+0200
TZNAME:CEST
DTSTART:20230326T010000
END:DAYLIGHT
BEGIN:STANDARD
TZOFFSETFROM:+0200
TZOFFSETTO:+0100
TZNAME:CET
DTSTART:20231029T010000
END:STANDARD
END:VTIMEZONE
BEGIN:VEVENT
DTSTART;TZID=Europe/Paris:20230902T093000
DTEND;TZID=Europe/Paris:20230902T130000
DTSTAMP:20260425T052108
CREATED:20230417T155406Z
LAST-MODIFIED:20230419T080501Z
UID:3707-1693647000-1693659600@sainte-honorine-du-fay.fr
SUMMARY:Forum des associations
DESCRIPTION:Forum des associations\n 
URL:https://sainte-honorine-du-fay.fr/event/forum-des-associations/
LOCATION:Mairie
END:VEVENT
END:VCALENDAR