BEGIN:VCALENDAR
VERSION:2.0
PRODID:-//Sainte-Honorine-du-Fay - ECPv5.14.0.2//NONSGML v1.0//EN
CALSCALE:GREGORIAN
METHOD:PUBLISH
X-WR-CALNAME:Sainte-Honorine-du-Fay
X-ORIGINAL-URL:https://sainte-honorine-du-fay.fr
X-WR-CALDESC:évènements pour Sainte-Honorine-du-Fay
BEGIN:VTIMEZONE
TZID:Europe/Paris
BEGIN:DAYLIGHT
TZOFFSETFROM:+0100
TZOFFSETTO:+0200
TZNAME:CEST
DTSTART:20250330T010000
END:DAYLIGHT
BEGIN:STANDARD
TZOFFSETFROM:+0200
TZOFFSETTO:+0100
TZNAME:CET
DTSTART:20251026T010000
END:STANDARD
END:VTIMEZONE
BEGIN:VEVENT
DTSTART;TZID=Europe/Paris:20251019T163000
DTEND;TZID=Europe/Paris:20251019T183000
DTSTAMP:20260425T035921
CREATED:20250916T140119Z
LAST-MODIFIED:20250916T140526Z
UID:4395-1760891400-1760898600@sainte-honorine-du-fay.fr
SUMMARY:CONCERT DU 19 OCTOBRE 2025 – EGLISE DE STE HONORINE DU FAY
DESCRIPTION:Ce concert de professeurs de musique lillois\, “Les Amayelles”\, aura lieu le dimanche 19 octobre 2025 à 16h30 à l’église de STE HONORINE DU FAY. Participation libre
URL:https://sainte-honorine-du-fay.fr/event/concert-du-19-octobre-2025-eglise-de-ste-honorine-du-fay/
END:VEVENT
END:VCALENDAR