BEGIN:VCALENDAR
VERSION:2.0
PRODID:-//Sainte-Honorine-du-Fay - ECPv5.14.0.2//NONSGML v1.0//EN
CALSCALE:GREGORIAN
METHOD:PUBLISH
X-WR-CALNAME:Sainte-Honorine-du-Fay
X-ORIGINAL-URL:https://sainte-honorine-du-fay.fr
X-WR-CALDESC:évènements pour Sainte-Honorine-du-Fay
BEGIN:VTIMEZONE
TZID:Europe/Paris
BEGIN:DAYLIGHT
TZOFFSETFROM:+0100
TZOFFSETTO:+0200
TZNAME:CEST
DTSTART:20240331T010000
END:DAYLIGHT
BEGIN:STANDARD
TZOFFSETFROM:+0200
TZOFFSETTO:+0100
TZNAME:CET
DTSTART:20241027T010000
END:STANDARD
END:VTIMEZONE
BEGIN:VEVENT
DTSTART;VALUE=DATE:20240413
DTEND;VALUE=DATE:20240414
DTSTAMP:20260425T052727
CREATED:20240224T103223Z
LAST-MODIFIED:20240224T103223Z
UID:3950-1712966400-1713052799@sainte-honorine-du-fay.fr
SUMMARY:Apéro concert  - APE
DESCRIPTION:
URL:https://sainte-honorine-du-fay.fr/event/apero-concert-ape/
END:VEVENT
END:VCALENDAR